BEGIN:VCALENDAR
VERSION:2.0
PRODID:icalendar-ruby
CALSCALE:GREGORIAN
X-WR-TIMEZONE:Europe/Helsinki
BEGIN:VTIMEZONE
TZID:Europe/Helsinki
BEGIN:DAYLIGHT
DTSTART:20260329T040000
TZOFFSETFROM:+0200
TZOFFSETTO:+0300
RRULE:FREQ=YEARLY;BYDAY=-1SU;BYMONTH=3
TZNAME:EEST
END:DAYLIGHT
BEGIN:STANDARD
DTSTART:20261025T030000
TZOFFSETFROM:+0300
TZOFFSETTO:+0200
RRULE:FREQ=YEARLY;BYDAY=-1SU;BYMONTH=10
TZNAME:EET
END:STANDARD
END:VTIMEZONE
BEGIN:VEVENT
DTSTAMP:20260423T181405
UID:bcsisu.myclub.fi-81489
DTSTART;TZID=Europe/Helsinki:20140920T080000
DTEND;TZID=Europe/Helsinki:20140920T190000
DESCRIPTION:BC Nokia järjestää yhden päivän koristurnauksen\, jonne ol
 emme ilmoittautuneet. \nVastustajat ovat BC Nokia 03\, BC Nokia 04 sekä L
 apuan Korikobrat eli tiedossa on kolme peliä!\n\n\nAikataulu sekä ruokai
 lu selviävät myöhemmin! \nKyytejä tarvitaan eli ilmoittakaa tänne MyC
 lubiin\, ketä pääsee lähtemään.\n\n\nKaikkien pelaajien pitää ilmo
 ittautua\, jotta osataan varata kyytejä tarpeeksi! \nKisapassin hinta on 
 20€/pelaaja\, joka oikeuttaa osallistumaan turnaukseen. Tämän kokainen
  maksaa itse. Ohjeet tulevat myöhemmin.....\n\n\nBasketball tournament in
  nokia. \nThree games: 2xNokia and Lapua. \nPrice 20€ per player\, inclu
 de playing pass. \nPass\, food and other things have by pay byself.\n\nhtt
 ps://bcsisu.myclub.fi/flow/events/81489
LOCATION:Nokia\, 
SEQUENCE:0
SUMMARY:Minipojat: Koripalloturnaus Nokialla
URL;VALUE=URI:https://bcsisu.myclub.fi/flow/events/81489
END:VEVENT
END:VCALENDAR
